BEGIN:VCALENDAR
VERSION:2.0
PRODID:-//ZPM-MB.si - ECPv4.9.10//NONSGML v1.0//EN
CALSCALE:GREGORIAN
METHOD:PUBLISH
X-WR-CALNAME:ZPM-MB.si
X-ORIGINAL-URL:https://zpm-mb.si
X-WR-CALDESC:Events for ZPM-MB.si
BEGIN:VTIMEZONE
TZID:Europe/Helsinki
BEGIN:DAYLIGHT
TZOFFSETFROM:+0200
TZOFFSETTO:+0300
TZNAME:EEST
DTSTART:20180325T010000
END:DAYLIGHT
BEGIN:STANDARD
TZOFFSETFROM:+0300
TZOFFSETTO:+0200
TZNAME:EET
DTSTART:20181028T010000
END:STANDARD
END:VTIMEZONE
BEGIN:VEVENT
DTSTART;TZID=Europe/Helsinki:20180609T090000
DTEND;TZID=Europe/Helsinki:20180609T140000
DTSTAMP:20260420T135303
CREATED:20180523T101259Z
LAST-MODIFIED:20180523T101259Z
UID:23220-1528534800-1528552800@zpm-mb.si
SUMMARY:Zdravje v vsak dom
DESCRIPTION:Dobrodelna prireditev Lekarn Maribor.\n
URL:https://zpm-mb.si/dogodek/zdravje-v-vsak-dom/
END:VEVENT
END:VCALENDAR