BEGIN:VCALENDAR
VERSION:2.0
PRODID:-//ZPM-MB.si - ECPv4.9.10//NONSGML v1.0//EN
CALSCALE:GREGORIAN
METHOD:PUBLISH
X-WR-CALNAME:ZPM-MB.si
X-ORIGINAL-URL:https://zpm-mb.si
X-WR-CALDESC:Events for ZPM-MB.si
BEGIN:VTIMEZONE
TZID:Europe/Helsinki
BEGIN:DAYLIGHT
TZOFFSETFROM:+0200
TZOFFSETTO:+0300
TZNAME:EEST
DTSTART:20190331T010000
END:DAYLIGHT
BEGIN:STANDARD
TZOFFSETFROM:+0300
TZOFFSETTO:+0200
TZNAME:EET
DTSTART:20191027T010000
END:STANDARD
END:VTIMEZONE
BEGIN:VEVENT
DTSTART;TZID=Europe/Helsinki:20190403T100000
DTEND;TZID=Europe/Helsinki:20190403T160000
DTSTAMP:20260420T093307
CREATED:20190131T093249Z
LAST-MODIFIED:20190131T093615Z
UID:27669-1554285600-1554307200@zpm-mb.si
SUMMARY:Zaključna prireditev Mladi za napredek Maribora
DESCRIPTION:Razglasitev rezultatov raziskovalnih nalog in inovacijski predlogov 36. srečanja programa Mladi za napredek Maribora. Ob 10.00 za osnovnošolce\, ob 13.00 za srednješolce. \n
URL:https://zpm-mb.si/dogodek/zakljucna-prireditev-mladi-za-napredek-maribora-2/
LOCATION:Narodni dom Maribor\, Kneza Koclja 9\, maribor\, Slovenija
ATTACH;FMTTYPE=image/jpeg:https://zpm-mb.si/wp-content/uploads/2017/04/DSCN0265-e1548934563430.jpg
END:VEVENT
END:VCALENDAR