BEGIN:VCALENDAR
VERSION:2.0
PRODID:-//ZPM-MB.si - ECPv4.9.10//NONSGML v1.0//EN
CALSCALE:GREGORIAN
METHOD:PUBLISH
X-WR-CALNAME:ZPM-MB.si
X-ORIGINAL-URL:https://zpm-mb.si
X-WR-CALDESC:Events for ZPM-MB.si
BEGIN:VTIMEZONE
TZID:UTC
BEGIN:STANDARD
TZOFFSETFROM:+0000
TZOFFSETTO:+0000
TZNAME:UTC
DTSTART:20210101T000000
END:STANDARD
END:VTIMEZONE
BEGIN:VEVENT
DTSTART;TZID=UTC:20210416T140000
DTEND;TZID=UTC:20210416T173000
DTSTAMP:20260420T114425
CREATED:20210414T130752Z
LAST-MODIFIED:20210414T130752Z
UID:42075-1618581600-1618594200@zpm-mb.si
SUMMARY:Zagovori MNM
DESCRIPTION:Javni zagovori oddanih raziskovalnih nalog in inovacijskih predlogov za področja:  \n– SLOVENSKI JEZIK: OŠ IN SŠ  14.00 – 14.30 \n– TEKSTILSTVO: SŠ – 16.00 – 17.30  \nZagovori bodo potekali na tej povezavi. \n
URL:https://zpm-mb.si/dogodek/zagovori-mnm-19/
END:VEVENT
END:VCALENDAR