BEGIN:VCALENDAR
VERSION:2.0
PRODID:-//ZPM-MB.si - ECPv4.9.10//NONSGML v1.0//EN
CALSCALE:GREGORIAN
METHOD:PUBLISH
X-WR-CALNAME:ZPM-MB.si
X-ORIGINAL-URL:https://zpm-mb.si
X-WR-CALDESC:Events for ZPM-MB.si
BEGIN:VTIMEZONE
TZID:Europe/Helsinki
BEGIN:DAYLIGHT
TZOFFSETFROM:+0200
TZOFFSETTO:+0300
TZNAME:EEST
DTSTART:20190331T010000
END:DAYLIGHT
BEGIN:STANDARD
TZOFFSETFROM:+0300
TZOFFSETTO:+0200
TZNAME:EET
DTSTART:20191027T010000
END:STANDARD
END:VTIMEZONE
BEGIN:VEVENT
DTSTART;TZID=Europe/Helsinki:20190314T150000
DTEND;TZID=Europe/Helsinki:20190314T180000
DTSTAMP:20260420T095046
CREATED:20190227T071834Z
LAST-MODIFIED:20190304T091739Z
UID:27942-1552575600-1552586400@zpm-mb.si
SUMMARY:Zagovori MNM
DESCRIPTION:Javni zagovori oddanih raziskovalnih nalog in inovacijskih predlogov za področja:  \n– SOCIOLOGIJA: OŠ – 14.00 – 17.00 \n– OBLIKOVANJE: SŠ – 15.00 – 16.30 \n– KEMIJA\, KEMIJSKA TEHNOLOGIJA: OŠ – 15.10 – 15.40\, SŠ – 15.50 – 17.20 \n– VETERINARSTVO: OŠ – 15.10 – 16.20\, SŠ – 16.30 – 17.10 \n– UMETNOST: OŠ – 15.30 – 16.00\, SŠ – 16.10 – 17.50 \n  \n
URL:https://zpm-mb.si/dogodek/zagovori-mnm-16/
LOCATION:Lesarska šola Maribor\, Lesarska ulica 2\, Maribor\, 2000\, Slovenija
ATTACH;FMTTYPE=image/jpeg:https://zpm-mb.si/wp-content/uploads/2015/02/MNM-plakat-obrezan.jpg
END:VEVENT
END:VCALENDAR