BEGIN:VCALENDAR
VERSION:2.0
PRODID:-//ZPM-MB.si - ECPv4.9.10//NONSGML v1.0//EN
CALSCALE:GREGORIAN
METHOD:PUBLISH
X-WR-CALNAME:ZPM-MB.si
X-ORIGINAL-URL:https://zpm-mb.si
X-WR-CALDESC:Events for ZPM-MB.si
BEGIN:VTIMEZONE
TZID:Europe/Helsinki
BEGIN:DAYLIGHT
TZOFFSETFROM:+0200
TZOFFSETTO:+0300
TZNAME:EEST
DTSTART:20190331T010000
END:DAYLIGHT
BEGIN:STANDARD
TZOFFSETFROM:+0300
TZOFFSETTO:+0200
TZNAME:EET
DTSTART:20191027T010000
END:STANDARD
END:VTIMEZONE
BEGIN:VEVENT
DTSTART;TZID=Europe/Helsinki:20190312T140000
DTEND;TZID=Europe/Helsinki:20190312T180000
DTSTAMP:20260421T085121
CREATED:20190227T070750Z
LAST-MODIFIED:20190312T080517Z
UID:27937-1552399200-1552413600@zpm-mb.si
SUMMARY:Zagovori MNM
DESCRIPTION:Javni zagovori oddanih raziskovalnih nalog in inovacijskih predlogov za področja:  \n– PREHRNA: OŠ – 13.00 – 14.10 \n– BIOTEHNOLOGIJA\, KMETIJSTVO\, ŽIVILSTVO: SŠ – 14.20 – 15.30 \n– ZDRAVSTVO: OŠ – 13.30 – 15.00\, SŠ – 15.10 – 16.30 \n– FILOZOFIJA: SŠ – 15.00 – 15.40 \n– TUJI JEZIKI: OŠ/SŠ – 17.00 – 17.40 \n– FIZIKA\, ASTRONOMIJA: OŠ – 15.00 – 15.20\, SŠ – 15.20 – 16.30 (zagovor bo potekal na Fakulteti za naravoslovje in matematiko\, Koroška cesta 160\, Maribor\, prostor 0/86 (oddelek za fiziko). \n
URL:https://zpm-mb.si/dogodek/zagovori-mnm-14/
LOCATION:Lesarska šola Maribor\, Lesarska ulica 2\, Maribor\, 2000\, Slovenija
ATTACH;FMTTYPE=image/jpeg:https://zpm-mb.si/wp-content/uploads/2015/02/MNM-plakat-obrezan.jpg
END:VEVENT
END:VCALENDAR