BEGIN:VCALENDAR
VERSION:2.0
PRODID:-//ZPM-MB.si - ECPv4.9.10//NONSGML v1.0//EN
CALSCALE:GREGORIAN
METHOD:PUBLISH
X-WR-CALNAME:ZPM-MB.si
X-ORIGINAL-URL:https://zpm-mb.si
X-WR-CALDESC:Events for ZPM-MB.si
BEGIN:VTIMEZONE
TZID:UTC
BEGIN:STANDARD
TZOFFSETFROM:+0000
TZOFFSETTO:+0000
TZNAME:UTC
DTSTART:20210101T000000
END:STANDARD
END:VTIMEZONE
BEGIN:VEVENT
DTSTART;TZID=UTC:20210526T090000
DTEND;TZID=UTC:20210526T120000
DTSTAMP:20260420T195836
CREATED:20210518T105544Z
LAST-MODIFIED:20210518T110138Z
UID:42899-1622019600-1622030400@zpm-mb.si
SUMMARY:Ustvarjano dopoldne (Marjeta na Dravskem polju)
DESCRIPTION:Gibalnice\, čarovnije in pravljice z likovnim ustvarjanjem (zaključene skupine). \n
URL:https://zpm-mb.si/dogodek/ustvarjano-dopoldne-marjeta-na-dravskem-polju/
LOCATION:POŠ Marjeta\, Marjeta na Dravskem polju 3\, Marjeta na Dravskem polju\, Slovenija
ATTACH;FMTTYPE=image/jpeg:https://zpm-mb.si/wp-content/uploads/2017/05/VGC_Stajerska-logotip.jpg
END:VEVENT
END:VCALENDAR