BEGIN:VCALENDAR
VERSION:2.0
PRODID:-//ZPM-MB.si - ECPv4.9.10//NONSGML v1.0//EN
CALSCALE:GREGORIAN
METHOD:PUBLISH
X-WR-CALNAME:ZPM-MB.si
X-ORIGINAL-URL:https://zpm-mb.si
X-WR-CALDESC:Events for ZPM-MB.si
BEGIN:VTIMEZONE
TZID:UTC
BEGIN:STANDARD
TZOFFSETFROM:+0000
TZOFFSETTO:+0000
TZNAME:UTC
DTSTART:20200101T000000
END:STANDARD
END:VTIMEZONE
BEGIN:VEVENT
DTSTART;VALUE=DATE:20201005
DTEND;VALUE=DATE:20201006
DTSTAMP:20260420T125659
CREATED:20200915T110234Z
LAST-MODIFIED:20200930T084443Z
UID:39361-1601856000-1601942399@zpm-mb.si
SUMMARY:Teden otroka (5.-9.10.2020)
DESCRIPTION:
URL:https://zpm-mb.si/dogodek/teden-otroka-5-9-10-2020/
LOCATION:Glavni trg Maribor\, Glavni trg 1\, Maribor\, Slovenija
ATTACH;FMTTYPE=image/jpeg:https://zpm-mb.si/wp-content/uploads/2020/09/zpm_TedenOtroka-MAIL-2009.jpg
END:VEVENT
END:VCALENDAR