BEGIN:VCALENDAR
VERSION:2.0
PRODID:-//ZPM-MB.si - ECPv4.9.10//NONSGML v1.0//EN
CALSCALE:GREGORIAN
METHOD:PUBLISH
X-WR-CALNAME:ZPM-MB.si
X-ORIGINAL-URL:https://zpm-mb.si
X-WR-CALDESC:Events for ZPM-MB.si
BEGIN:VTIMEZONE
TZID:UTC
BEGIN:STANDARD
TZOFFSETFROM:+0000
TZOFFSETTO:+0000
TZNAME:UTC
DTSTART:20230101T000000
END:STANDARD
END:VTIMEZONE
BEGIN:VEVENT
DTSTART;VALUE=DATE:20231002
DTEND;VALUE=DATE:20231003
DTSTAMP:20260421T114013
CREATED:20230922T074216Z
LAST-MODIFIED:20230922T074216Z
UID:59428-1696204800-1696291199@zpm-mb.si
SUMMARY:Teden otroka (2.-6.10.2023)
DESCRIPTION:
URL:https://zpm-mb.si/dogodek/teden-otroka-2-6-10-2023/
LOCATION:Trg svobode\, Maribor\, Slovenija
ATTACH;FMTTYPE=image/jpeg:https://zpm-mb.si/wp-content/uploads/2023/09/FB-cover-za-Teden-otroka.jpg
END:VEVENT
END:VCALENDAR