BEGIN:VCALENDAR
VERSION:2.0
PRODID:-//ZPM-MB.si - ECPv4.9.10//NONSGML v1.0//EN
CALSCALE:GREGORIAN
METHOD:PUBLISH
X-WR-CALNAME:ZPM-MB.si
X-ORIGINAL-URL:https://zpm-mb.si
X-WR-CALDESC:Events for ZPM-MB.si
BEGIN:VTIMEZONE
TZID:UTC
BEGIN:STANDARD
TZOFFSETFROM:+0000
TZOFFSETTO:+0000
TZNAME:UTC
DTSTART:20200101T000000
END:STANDARD
END:VTIMEZONE
BEGIN:VEVENT
DTSTART;TZID=UTC:20200310T100000
DTEND;TZID=UTC:20200310T113000
DTSTAMP:20260420T001152
CREATED:20200205T130432Z
LAST-MODIFIED:20200205T130432Z
UID:35225-1583834400-1583839800@zpm-mb.si
SUMMARY:Tečaj nemščine za starejše
DESCRIPTION:Več informacij: Medgeneracijski center Šentilj\, +386 51 658 320\, info@mc-sentilj.si. \n
URL:https://zpm-mb.si/dogodek/tecaj-nemscine-za-starejse-4/
LOCATION:Medgeneracijski center Šentilj\, Slovenska ulica 1\, Šentilj\, Slovenija
END:VEVENT
END:VCALENDAR