BEGIN:VCALENDAR
VERSION:2.0
PRODID:-//ZPM-MB.si - ECPv4.9.10//NONSGML v1.0//EN
CALSCALE:GREGORIAN
METHOD:PUBLISH
X-WR-CALNAME:ZPM-MB.si
X-ORIGINAL-URL:https://zpm-mb.si
X-WR-CALDESC:Events for ZPM-MB.si
BEGIN:VTIMEZONE
TZID:UTC
BEGIN:STANDARD
TZOFFSETFROM:+0000
TZOFFSETTO:+0000
TZNAME:UTC
DTSTART:20200101T000000
END:STANDARD
END:VTIMEZONE
BEGIN:VEVENT
DTSTART;TZID=UTC:20200303T100000
DTEND;TZID=UTC:20200303T113000
DTSTAMP:20260419T205003
CREATED:20200205T130328Z
LAST-MODIFIED:20200205T130328Z
UID:35223-1583229600-1583235000@zpm-mb.si
SUMMARY:Tečaj nemščine za starejše
DESCRIPTION:Več informacij: Medgeneracijski center Šentilj\, +386 51 658 320\, info@mc-sentilj.si. \n
URL:https://zpm-mb.si/dogodek/tecaj-nemscine-za-starejse-3/
LOCATION:Medgeneracijski center Šentilj\, Slovenska ulica 1\, Šentilj\, Slovenija
ATTACH;FMTTYPE=image/jpeg:https://zpm-mb.si/wp-content/uploads/2018/02/VGC_Stajerska-logotip.jpg
END:VEVENT
END:VCALENDAR