BEGIN:VCALENDAR
VERSION:2.0
PRODID:-//ZPM-MB.si - ECPv4.9.10//NONSGML v1.0//EN
CALSCALE:GREGORIAN
METHOD:PUBLISH
X-WR-CALNAME:ZPM-MB.si
X-ORIGINAL-URL:https://zpm-mb.si
X-WR-CALDESC:Events for ZPM-MB.si
BEGIN:VTIMEZONE
TZID:UTC
BEGIN:STANDARD
TZOFFSETFROM:+0000
TZOFFSETTO:+0000
TZNAME:UTC
DTSTART:20220101T000000
END:STANDARD
END:VTIMEZONE
BEGIN:VEVENT
DTSTART;TZID=UTC:20221219T170000
DTEND;TZID=UTC:20221219T183000
DTSTAMP:20260421T083232
CREATED:20221119T102320Z
LAST-MODIFIED:20221119T102320Z
UID:54062-1671469200-1671474600@zpm-mb.si
SUMMARY:Sprevod dedka Mraza - Razvanje\, Tabor\, Magdalena
DESCRIPTION:
URL:https://zpm-mb.si/dogodek/sprevod-dedka-mraza-razvanje-tabor-magdalena/
ATTACH;FMTTYPE=image/jpeg:https://zpm-mb.si/wp-content/uploads/2018/11/DM-obrezan-m.jpg
END:VEVENT
END:VCALENDAR