BEGIN:VCALENDAR
VERSION:2.0
PRODID:-//ZPM-MB.si - ECPv4.9.10//NONSGML v1.0//EN
CALSCALE:GREGORIAN
METHOD:PUBLISH
X-WR-CALNAME:ZPM-MB.si
X-ORIGINAL-URL:https://zpm-mb.si
X-WR-CALDESC:Events for ZPM-MB.si
BEGIN:VTIMEZONE
TZID:Europe/Helsinki
BEGIN:DAYLIGHT
TZOFFSETFROM:+0200
TZOFFSETTO:+0300
TZNAME:EEST
DTSTART:20180325T010000
END:DAYLIGHT
BEGIN:STANDARD
TZOFFSETFROM:+0300
TZOFFSETTO:+0200
TZNAME:EET
DTSTART:20181028T010000
END:STANDARD
END:VTIMEZONE
BEGIN:VEVENT
DTSTART;TZID=Europe/Helsinki:20181220T171500
DTEND;TZID=Europe/Helsinki:20181220T190000
DTSTAMP:20260420T073522
CREATED:20181122T125426Z
LAST-MODIFIED:20181122T131705Z
UID:27113-1545326100-1545332400@zpm-mb.si
SUMMARY:Sprevod dedka Mraza - Miklavž na Dravskem polju
DESCRIPTION:Sprevod dedka Mraza – pričetek ob 17.15 – postanki v Dravskem dvoru\, Dobrovcih\, Skokah in pred OŠ Miklavž na Dravskem polju.\nPREBERI VEČ …\n
URL:https://zpm-mb.si/dogodek/sprevod-dedka-mraza-miklavz-na-dravskem-polju/
ATTACH;FMTTYPE=image/jpeg:https://zpm-mb.si/wp-content/uploads/2018/11/DM-obrezan-m.jpg
END:VEVENT
END:VCALENDAR