BEGIN:VCALENDAR
VERSION:2.0
PRODID:-//ZPM-MB.si - ECPv4.9.10//NONSGML v1.0//EN
CALSCALE:GREGORIAN
METHOD:PUBLISH
X-WR-CALNAME:ZPM-MB.si
X-ORIGINAL-URL:https://zpm-mb.si
X-WR-CALDESC:Events for ZPM-MB.si
BEGIN:VTIMEZONE
TZID:UTC
BEGIN:STANDARD
TZOFFSETFROM:+0000
TZOFFSETTO:+0000
TZNAME:UTC
DTSTART:20230101T000000
END:STANDARD
END:VTIMEZONE
BEGIN:VEVENT
DTSTART;TZID=UTC:20231221T170000
DTEND;TZID=UTC:20231221T183000
DTSTAMP:20260421T114537
CREATED:20231127T095415Z
LAST-MODIFIED:20231127T095415Z
UID:60124-1703178000-1703183400@zpm-mb.si
SUMMARY:Sprevod dedka Mraza - Miklavž na Dravskem polju
DESCRIPTION:
URL:https://zpm-mb.si/dogodek/sprevod-dedka-mraza-miklavz-na-dravskem-polju-4/
ATTACH;FMTTYPE=image/jpeg:https://zpm-mb.si/wp-content/uploads/2018/11/DM-obrezan-m.jpg
END:VEVENT
END:VCALENDAR