BEGIN:VCALENDAR
VERSION:2.0
PRODID:-//ZPM-MB.si - ECPv4.9.10//NONSGML v1.0//EN
CALSCALE:GREGORIAN
METHOD:PUBLISH
X-WR-CALNAME:ZPM-MB.si
X-ORIGINAL-URL:https://zpm-mb.si
X-WR-CALDESC:Events for ZPM-MB.si
BEGIN:VTIMEZONE
TZID:UTC
BEGIN:STANDARD
TZOFFSETFROM:+0000
TZOFFSETTO:+0000
TZNAME:UTC
DTSTART:20200101T000000
END:STANDARD
END:VTIMEZONE
BEGIN:VEVENT
DTSTART;TZID=UTC:20201215T170000
DTEND;TZID=UTC:20201215T180000
DTSTAMP:20260420T060738
CREATED:20210111T064330Z
LAST-MODIFIED:20210111T064330Z
UID:40970-1608051600-1608055200@zpm-mb.si
SUMMARY:Sprevod dedka Mraza - Kamnica\, Koroška vrata
DESCRIPTION:Dedek Mraz prišel je med nas! \n \n
URL:https://zpm-mb.si/dogodek/sprevod-dedka-mraza-kamnica-koroska-vrata/
ATTACH;FMTTYPE=image/png:https://zpm-mb.si/wp-content/uploads/2017/11/ZPM-DEDEK-MRAZ-2017-FB-IKONA-1.png
END:VEVENT
END:VCALENDAR