BEGIN:VCALENDAR
VERSION:2.0
PRODID:-//ZPM-MB.si - ECPv4.9.10//NONSGML v1.0//EN
CALSCALE:GREGORIAN
METHOD:PUBLISH
X-WR-CALNAME:ZPM-MB.si
X-ORIGINAL-URL:https://zpm-mb.si
X-WR-CALDESC:Events for ZPM-MB.si
BEGIN:VTIMEZONE
TZID:UTC
BEGIN:STANDARD
TZOFFSETFROM:+0000
TZOFFSETTO:+0000
TZNAME:UTC
DTSTART:20190101T000000
END:STANDARD
END:VTIMEZONE
BEGIN:VEVENT
DTSTART;TZID=UTC:20191212T170000
DTEND;TZID=UTC:20191212T183000
DTSTAMP:20260420T085030
CREATED:20191216T102040Z
LAST-MODIFIED:20191216T102100Z
UID:34685-1576170000-1576175400@zpm-mb.si
SUMMARY:Sprevod dedka Mraza - Brezje in Pobrežje
DESCRIPTION:Sprevod dedka Mraza – postanek pri OŠ  in vrtcu Brezje\, ob 17.00 in postanek z igrico pri vrtcu Pobrežje – enota Kekec\, ob 17.15.\n
URL:https://zpm-mb.si/dogodek/sprevod-dedka-mraza-brezje-in-pobrezje-2/
ATTACH;FMTTYPE=image/jpeg:https://zpm-mb.si/wp-content/uploads/2018/11/DM-obrezan-m.jpg
END:VEVENT
END:VCALENDAR