BEGIN:VCALENDAR
VERSION:2.0
PRODID:-//ZPM-MB.si - ECPv4.9.10//NONSGML v1.0//EN
CALSCALE:GREGORIAN
METHOD:PUBLISH
X-WR-CALNAME:ZPM-MB.si
X-ORIGINAL-URL:https://zpm-mb.si
X-WR-CALDESC:Events for ZPM-MB.si
BEGIN:VTIMEZONE
TZID:Europe/Helsinki
BEGIN:DAYLIGHT
TZOFFSETFROM:+0200
TZOFFSETTO:+0300
TZNAME:EEST
DTSTART:20180325T010000
END:DAYLIGHT
BEGIN:STANDARD
TZOFFSETFROM:+0300
TZOFFSETTO:+0200
TZNAME:EET
DTSTART:20181028T010000
END:STANDARD
END:VTIMEZONE
BEGIN:VEVENT
DTSTART;TZID=Europe/Helsinki:20181228T170000
DTEND;TZID=Europe/Helsinki:20181228T190000
DTSTAMP:20260421T113858
CREATED:20181122T125649Z
LAST-MODIFIED:20181122T131215Z
UID:27114-1546016400-1546023600@zpm-mb.si
SUMMARY:Slovo dedka Mraza
DESCRIPTION:Dedek Mraz se bo nazadnje popeljal po svetlečih mestnih ulicah in se ustavil v pravljičnem Vilinskem mestu\, kjer bo navihani čarovnik otroke nasmejal\, da se bo slišalo na vrh Pohorja.\nob 17.00 predstava v Vilinskem mestu (Vetrinjski dvor)\,\nob 17.45 slovo na velikem odru v Trgu Leona Štuklja.\nPREBERI VEČ …\n
URL:https://zpm-mb.si/dogodek/slovo-dedka-mraza/
ATTACH;FMTTYPE=image/jpeg:https://zpm-mb.si/wp-content/uploads/2018/11/DM-obrezan-m.jpg
END:VEVENT
END:VCALENDAR