BEGIN:VCALENDAR
VERSION:2.0
PRODID:-//ZPM-MB.si - ECPv4.9.10//NONSGML v1.0//EN
CALSCALE:GREGORIAN
METHOD:PUBLISH
X-WR-CALNAME:ZPM-MB.si
X-ORIGINAL-URL:https://zpm-mb.si
X-WR-CALDESC:Events for ZPM-MB.si
BEGIN:VTIMEZONE
TZID:UTC
BEGIN:STANDARD
TZOFFSETFROM:+0000
TZOFFSETTO:+0000
TZNAME:UTC
DTSTART:20210101T000000
END:STANDARD
END:VTIMEZONE
BEGIN:VEVENT
DTSTART;VALUE=DATE:20210412
DTEND;VALUE=DATE:20210413
DTSTAMP:20260420T165149
CREATED:20210324T131038Z
LAST-MODIFIED:20210413T104750Z
UID:41844-1618185600-1618271999@zpm-mb.si
SUMMARY:Rok za prijavo na razpis za prostovoljce v DUM-u 2021
DESCRIPTION:
URL:https://zpm-mb.si/dogodek/rok-za-prijavo-na-razpis-za-prostovoljce-v-dum-u-2021/
ATTACH;FMTTYPE=image/jpeg:https://zpm-mb.si/wp-content/uploads/2021/03/zpm_Prostovoljec_550x370px_1901.jpg
END:VEVENT
END:VCALENDAR