BEGIN:VCALENDAR
VERSION:2.0
PRODID:-//ZPM-MB.si - ECPv4.9.10//NONSGML v1.0//EN
CALSCALE:GREGORIAN
METHOD:PUBLISH
X-WR-CALNAME:ZPM-MB.si
X-ORIGINAL-URL:https://zpm-mb.si
X-WR-CALDESC:Events for ZPM-MB.si
BEGIN:VTIMEZONE
TZID:UTC
BEGIN:STANDARD
TZOFFSETFROM:+0000
TZOFFSETTO:+0000
TZNAME:UTC
DTSTART:20230101T000000
END:STANDARD
END:VTIMEZONE
BEGIN:VEVENT
DTSTART;TZID=UTC:20230323T080000
DTEND;TZID=UTC:20230323T140000
DTSTAMP:20260420T035011
CREATED:20230112T065356Z
LAST-MODIFIED:20230207T102542Z
UID:55404-1679558400-1679580000@zpm-mb.si
SUMMARY:Regijski Otroški parlament
DESCRIPTION:
URL:https://zpm-mb.si/dogodek/regijski-otroski-parlament-4/
LOCATION:Dom ustvarjalnosti mladih Maribor\, Razlagova 16\, Maribor\, 2000\, Slovenija
ATTACH;FMTTYPE=image/png:https://zpm-mb.si/wp-content/uploads/2018/02/logo_otroski_parlamenti_thumb-150x146.png
END:VEVENT
END:VCALENDAR