BEGIN:VCALENDAR
VERSION:2.0
PRODID:-//ZPM-MB.si - ECPv4.9.10//NONSGML v1.0//EN
CALSCALE:GREGORIAN
METHOD:PUBLISH
X-WR-CALNAME:ZPM-MB.si
X-ORIGINAL-URL:https://zpm-mb.si
X-WR-CALDESC:Events for ZPM-MB.si
BEGIN:VTIMEZONE
TZID:Europe/Helsinki
BEGIN:DAYLIGHT
TZOFFSETFROM:+0200
TZOFFSETTO:+0300
TZNAME:EEST
DTSTART:20190331T010000
END:DAYLIGHT
BEGIN:STANDARD
TZOFFSETFROM:+0300
TZOFFSETTO:+0200
TZNAME:EET
DTSTART:20191027T010000
END:STANDARD
END:VTIMEZONE
BEGIN:VEVENT
DTSTART;TZID=Europe/Helsinki:20190314T080000
DTEND;TZID=Europe/Helsinki:20190314T140000
DTSTAMP:20260420T063946
CREATED:20190221T104200Z
LAST-MODIFIED:20190306T122240Z
UID:27872-1552550400-1552572000@zpm-mb.si
SUMMARY:Regijski Otroški parlament
DESCRIPTION:29. regijski Otroški parlament za Maribor in okolico\nPREBERI VEČ …\n
URL:https://zpm-mb.si/dogodek/regijski-otroski-parlament-2/
LOCATION:Dom ustvarjalnosti mladih Maribor\, Razlagova 16\, Maribor\, 2000\, Slovenija
ATTACH;FMTTYPE=image/png:https://zpm-mb.si/wp-content/uploads/2018/02/logo_otroski_parlamenti_thumb-150x146.png
END:VEVENT
END:VCALENDAR