BEGIN:VCALENDAR
VERSION:2.0
PRODID:-//ZPM-MB.si - ECPv4.9.10//NONSGML v1.0//EN
CALSCALE:GREGORIAN
METHOD:PUBLISH
X-WR-CALNAME:ZPM-MB.si
X-ORIGINAL-URL:https://zpm-mb.si
X-WR-CALDESC:Events for ZPM-MB.si
BEGIN:VTIMEZONE
TZID:Europe/Helsinki
BEGIN:DAYLIGHT
TZOFFSETFROM:+0200
TZOFFSETTO:+0300
TZNAME:EEST
DTSTART:20190331T010000
END:DAYLIGHT
BEGIN:STANDARD
TZOFFSETFROM:+0300
TZOFFSETTO:+0200
TZNAME:EET
DTSTART:20191027T010000
END:STANDARD
END:VTIMEZONE
BEGIN:VEVENT
DTSTART;VALUE=DATE:20190211
DTEND;VALUE=DATE:20190212
DTSTAMP:20260421T152421
CREATED:20190123T125527Z
LAST-MODIFIED:20190123T125527Z
UID:27535-1549843200-1549929599@zpm-mb.si
SUMMARY:Razpis za prostovoljce na letovanjih
DESCRIPTION:
URL:https://zpm-mb.si/dogodek/razpis-za-prostovoljce-na-letovanjih/
END:VEVENT
END:VCALENDAR