BEGIN:VCALENDAR
VERSION:2.0
PRODID:-//ZPM-MB.si - ECPv4.9.10//NONSGML v1.0//EN
CALSCALE:GREGORIAN
METHOD:PUBLISH
X-WR-CALNAME:ZPM-MB.si
X-ORIGINAL-URL:https://zpm-mb.si
X-WR-CALDESC:Events for ZPM-MB.si
BEGIN:VTIMEZONE
TZID:UTC
BEGIN:STANDARD
TZOFFSETFROM:+0000
TZOFFSETTO:+0000
TZNAME:UTC
DTSTART:20230101T000000
END:STANDARD
END:VTIMEZONE
BEGIN:VEVENT
DTSTART;VALUE=DATE:20230221
DTEND;VALUE=DATE:20230222
DTSTAMP:20260421T082555
CREATED:20230112T063905Z
LAST-MODIFIED:20230207T102454Z
UID:55384-1676937600-1677023999@zpm-mb.si
SUMMARY:Pustovanje
DESCRIPTION:
URL:https://zpm-mb.si/dogodek/pustovanje/
ATTACH;FMTTYPE=image/png:https://zpm-mb.si/wp-content/uploads/2023/01/zpm_Pust_FBc_851x315px_2301_web.png
END:VEVENT
END:VCALENDAR