BEGIN:VCALENDAR
VERSION:2.0
PRODID:-//ZPM-MB.si - ECPv4.9.10//NONSGML v1.0//EN
CALSCALE:GREGORIAN
METHOD:PUBLISH
X-WR-CALNAME:ZPM-MB.si
X-ORIGINAL-URL:https://zpm-mb.si
X-WR-CALDESC:Events for ZPM-MB.si
BEGIN:VTIMEZONE
TZID:Europe/Helsinki
BEGIN:DAYLIGHT
TZOFFSETFROM:+0200
TZOFFSETTO:+0300
TZNAME:EEST
DTSTART:20180325T010000
END:DAYLIGHT
BEGIN:STANDARD
TZOFFSETFROM:+0300
TZOFFSETTO:+0200
TZNAME:EET
DTSTART:20181028T010000
END:STANDARD
END:VTIMEZONE
BEGIN:VEVENT
DTSTART;VALUE=DATE:20180426
DTEND;VALUE=DATE:20180427
DTSTAMP:20260420T104534
CREATED:20180320T102505Z
LAST-MODIFIED:20180328T120005Z
UID:22164-1524700800-1524787199@zpm-mb.si
SUMMARY:Prvomajski paketi v VIRC Poreč
DESCRIPTION:Prvomajska ponudba za družine\, individualne goste in organizirane skupine v VIRC Poreč \nPODROBNOSTI \n
URL:https://zpm-mb.si/dogodek/prvomajski-paketi-v-virc-porec/
LOCATION:VIRC Poreč\, Materada 38\, Poreč\, Hrvaška
ATTACH;FMTTYPE=image/jpeg:https://zpm-mb.si/wp-content/uploads/2014/10/virc_03.jpg
END:VEVENT
END:VCALENDAR