BEGIN:VCALENDAR
VERSION:2.0
PRODID:-//ZPM-MB.si - ECPv4.9.10//NONSGML v1.0//EN
CALSCALE:GREGORIAN
METHOD:PUBLISH
X-WR-CALNAME:ZPM-MB.si
X-ORIGINAL-URL:https://zpm-mb.si
X-WR-CALDESC:Events for ZPM-MB.si
BEGIN:VTIMEZONE
TZID:UTC
BEGIN:STANDARD
TZOFFSETFROM:+0000
TZOFFSETTO:+0000
TZNAME:UTC
DTSTART:20230101T000000
END:STANDARD
END:VTIMEZONE
BEGIN:VEVENT
DTSTART;TZID=UTC:20230428T080000
DTEND;TZID=UTC:20230428T160000
DTSTAMP:20260421T082720
CREATED:20230112T065600Z
LAST-MODIFIED:20230112T065600Z
UID:55408-1682668800-1682697600@zpm-mb.si
SUMMARY:Prvomajske počitnice
DESCRIPTION:
URL:https://zpm-mb.si/dogodek/prvomajske-pocitnice-3/
LOCATION:Dom ustvarjalnosti mladih Maribor\, Razlagova 16\, Maribor\, 2000\, Slovenija
END:VEVENT
END:VCALENDAR