BEGIN:VCALENDAR
VERSION:2.0
PRODID:-//ZPM-MB.si - ECPv4.9.10//NONSGML v1.0//EN
CALSCALE:GREGORIAN
METHOD:PUBLISH
X-WR-CALNAME:ZPM-MB.si
X-ORIGINAL-URL:https://zpm-mb.si
X-WR-CALDESC:Events for ZPM-MB.si
BEGIN:VTIMEZONE
TZID:UTC
BEGIN:STANDARD
TZOFFSETFROM:+0000
TZOFFSETTO:+0000
TZNAME:UTC
DTSTART:20200101T000000
END:STANDARD
END:VTIMEZONE
BEGIN:VEVENT
DTSTART;VALUE=DATE:20200428
DTEND;VALUE=DATE:20200429
DTSTAMP:20260420T050500
CREATED:20200303T073825Z
LAST-MODIFIED:20200303T073949Z
UID:35716-1588032000-1588118399@zpm-mb.si
SUMMARY:Prvomajske počitnice (28.-30. 4. 2020)
DESCRIPTION:
URL:https://zpm-mb.si/dogodek/prvomajske-pocitnice-28-30-4-2020/
END:VEVENT
END:VCALENDAR