BEGIN:VCALENDAR
VERSION:2.0
PRODID:-//ZPM-MB.si - ECPv4.9.10//NONSGML v1.0//EN
CALSCALE:GREGORIAN
METHOD:PUBLISH
X-WR-CALNAME:ZPM-MB.si
X-ORIGINAL-URL:https://zpm-mb.si
X-WR-CALDESC:Events for ZPM-MB.si
BEGIN:VTIMEZONE
TZID:UTC
BEGIN:STANDARD
TZOFFSETFROM:+0000
TZOFFSETTO:+0000
TZNAME:UTC
DTSTART:20200101T000000
END:STANDARD
END:VTIMEZONE
BEGIN:VEVENT
DTSTART;TZID=UTC:20200922T170000
DTEND;TZID=UTC:20200922T183000
DTSTAMP:20260420T064333
CREATED:20200915T105336Z
LAST-MODIFIED:20200915T105638Z
UID:39342-1600794000-1600799400@zpm-mb.si
SUMMARY:Predavanje: Pomen gliv in jesenske gobe (Ruše)
DESCRIPTION:
URL:https://zpm-mb.si/dogodek/predavanje-pomen-gliv-in-jesenske-gobe-ruse/
LOCATION:Medgeneracijski center Ruše\, Mariborska cesta 31\, Ruše\, Slovenija
ATTACH;FMTTYPE=image/jpeg:https://zpm-mb.si/wp-content/uploads/2017/05/VGC_Stajerska-logotip.jpg
END:VEVENT
END:VCALENDAR