BEGIN:VCALENDAR
VERSION:2.0
PRODID:-//ZPM-MB.si - ECPv4.9.10//NONSGML v1.0//EN
CALSCALE:GREGORIAN
METHOD:PUBLISH
X-WR-CALNAME:ZPM-MB.si
X-ORIGINAL-URL:https://zpm-mb.si
X-WR-CALDESC:Events for ZPM-MB.si
BEGIN:VTIMEZONE
TZID:UTC
BEGIN:STANDARD
TZOFFSETFROM:+0000
TZOFFSETTO:+0000
TZNAME:UTC
DTSTART:20230101T000000
END:STANDARD
END:VTIMEZONE
BEGIN:VEVENT
DTSTART;TZID=UTC:20230829T163000
DTEND;TZID=UTC:20230829T183000
DTSTAMP:20260421T114502
CREATED:20230922T073549Z
LAST-MODIFIED:20230922T074526Z
UID:59418-1693326600-1693333800@zpm-mb.si
SUMMARY:Predavanje: Odgovorna raba zaslonov in digitalnih vsebin
DESCRIPTION:
URL:https://zpm-mb.si/dogodek/predavanje-odgovorna-raba-zaslonov-in-digitalnih-vsebin/
LOCATION:Dom ustvarjalnosti mladih Maribor\, Razlagova 16\, Maribor\, 2000\, Slovenija
ATTACH;FMTTYPE=image/png:https://zpm-mb.si/wp-content/uploads/2023/08/odklop.png
END:VEVENT
END:VCALENDAR