BEGIN:VCALENDAR
VERSION:2.0
PRODID:-//ZPM-MB.si - ECPv4.9.10//NONSGML v1.0//EN
CALSCALE:GREGORIAN
METHOD:PUBLISH
X-WR-CALNAME:ZPM-MB.si
X-ORIGINAL-URL:https://zpm-mb.si
X-WR-CALDESC:Events for ZPM-MB.si
BEGIN:VTIMEZONE
TZID:UTC
BEGIN:STANDARD
TZOFFSETFROM:+0000
TZOFFSETTO:+0000
TZNAME:UTC
DTSTART:20230101T000000
END:STANDARD
END:VTIMEZONE
BEGIN:VEVENT
DTSTART;VALUE=DATE:20230625
DTEND;VALUE=DATE:20230626
DTSTAMP:20260421T083259
CREATED:20230112T070413Z
LAST-MODIFIED:20230112T070803Z
UID:55418-1687651200-1687737599@zpm-mb.si
SUMMARY:Počitnice s prijatelji - letovanja (25.6.-24.8.2023)
DESCRIPTION:DATUMI IZMEN v VIRC POREČ in DMZ POHORJE \n
URL:https://zpm-mb.si/dogodek/pocitnice-s-prijatelji-letovanja-25-6-24-8-2023/
END:VEVENT
END:VCALENDAR