BEGIN:VCALENDAR
VERSION:2.0
PRODID:-//ZPM-MB.si - ECPv4.9.10//NONSGML v1.0//EN
CALSCALE:GREGORIAN
METHOD:PUBLISH
X-WR-CALNAME:ZPM-MB.si
X-ORIGINAL-URL:https://zpm-mb.si
X-WR-CALDESC:Events for ZPM-MB.si
BEGIN:VTIMEZONE
TZID:Europe/Helsinki
BEGIN:DAYLIGHT
TZOFFSETFROM:+0200
TZOFFSETTO:+0300
TZNAME:EEST
DTSTART:20180325T010000
END:DAYLIGHT
BEGIN:STANDARD
TZOFFSETFROM:+0300
TZOFFSETTO:+0200
TZNAME:EET
DTSTART:20181028T010000
END:STANDARD
END:VTIMEZONE
BEGIN:VEVENT
DTSTART;TZID=Europe/Helsinki:20181224T080000
DTEND;TZID=Europe/Helsinki:20181224T120000
DTSTAMP:20260420T090324
CREATED:20181123T074317Z
LAST-MODIFIED:20181214T081621Z
UID:27119-1545638400-1545652800@zpm-mb.si
SUMMARY:Novoletne počitnice
DESCRIPTION:Likovne delavnice “Naj pada\, pada sneg!”\nPREBERI VEČ … \n
URL:https://zpm-mb.si/dogodek/novoletne-pocitnice/
LOCATION:Dom ustvarjalnosti mladih Maribor\, Razlagova 16\, Maribor\, 2000\, Slovenija
ATTACH;FMTTYPE=image/jpeg:https://zpm-mb.si/wp-content/uploads/2018/12/zimske-hiše.jpg
END:VEVENT
END:VCALENDAR