BEGIN:VCALENDAR
VERSION:2.0
PRODID:-//ZPM-MB.si - ECPv4.9.10//NONSGML v1.0//EN
CALSCALE:GREGORIAN
METHOD:PUBLISH
X-WR-CALNAME:ZPM-MB.si
X-ORIGINAL-URL:https://zpm-mb.si
X-WR-CALDESC:Events for ZPM-MB.si
BEGIN:VTIMEZONE
TZID:UTC
BEGIN:STANDARD
TZOFFSETFROM:+0000
TZOFFSETTO:+0000
TZNAME:UTC
DTSTART:20210101T000000
END:STANDARD
END:VTIMEZONE
BEGIN:VEVENT
DTSTART;VALUE=DATE:20211227
DTEND;VALUE=DATE:20211228
DTSTAMP:20260419T204010
CREATED:20211029T073730Z
LAST-MODIFIED:20211029T073816Z
UID:46199-1640563200-1640649599@zpm-mb.si
SUMMARY:Novoletne počitnice (27.-31.12.2021)
DESCRIPTION:
URL:https://zpm-mb.si/dogodek/novoletne-pocitnice-27-31-12-2021/
LOCATION:Dom ustvarjalnosti mladih Maribor\, Razlagova 16\, Maribor\, 2000\, Slovenija
ATTACH;FMTTYPE=image/jpeg:https://zpm-mb.si/wp-content/uploads/2017/12/snežinke1-m.jpg
END:VEVENT
END:VCALENDAR