BEGIN:VCALENDAR
VERSION:2.0
PRODID:-//ZPM-MB.si - ECPv4.9.10//NONSGML v1.0//EN
CALSCALE:GREGORIAN
METHOD:PUBLISH
X-WR-CALNAME:ZPM-MB.si
X-ORIGINAL-URL:https://zpm-mb.si
X-WR-CALDESC:Events for ZPM-MB.si
BEGIN:VTIMEZONE
TZID:UTC
BEGIN:STANDARD
TZOFFSETFROM:+0000
TZOFFSETTO:+0000
TZNAME:UTC
DTSTART:20190101T000000
END:STANDARD
END:VTIMEZONE
BEGIN:VEVENT
DTSTART;VALUE=DATE:20191227
DTEND;VALUE=DATE:20191228
DTSTAMP:20260420T170533
CREATED:20191104T125124Z
LAST-MODIFIED:20191104T125205Z
UID:34478-1577404800-1577491199@zpm-mb.si
SUMMARY:Novoletne počitnice (27.\, 30. in 31. 12. 2019)
DESCRIPTION:
URL:https://zpm-mb.si/dogodek/novoletne-pocitnice-27-30-in-31-12-2019/
LOCATION:Dom ustvarjalnosti mladih Maribor\, Razlagova 16\, Maribor\, 2000\, Slovenija
END:VEVENT
END:VCALENDAR