BEGIN:VCALENDAR
VERSION:2.0
PRODID:-//ZPM-MB.si - ECPv4.9.10//NONSGML v1.0//EN
CALSCALE:GREGORIAN
METHOD:PUBLISH
X-WR-CALNAME:ZPM-MB.si
X-ORIGINAL-URL:https://zpm-mb.si
X-WR-CALDESC:Events for ZPM-MB.si
BEGIN:VTIMEZONE
TZID:UTC
BEGIN:STANDARD
TZOFFSETFROM:+0000
TZOFFSETTO:+0000
TZNAME:UTC
DTSTART:20210101T000000
END:STANDARD
END:VTIMEZONE
BEGIN:VEVENT
DTSTART;TZID=UTC:20210831T090000
DTEND;TZID=UTC:20210831T130000
DTSTAMP:20260420T094054
CREATED:20210927T073832Z
LAST-MODIFIED:20210927T073832Z
UID:45658-1630400400-1630414800@zpm-mb.si
SUMMARY:Neresna olimpijada - zaključek programa Počitnice s prijatelji 2021
DESCRIPTION:
URL:https://zpm-mb.si/dogodek/neresna-olimpijada-zakljucek-programa-pocitnice-s-prijatelji-2021/
LOCATION:Trg svobode\, Maribor\, Slovenija
ATTACH;FMTTYPE=image/png:https://zpm-mb.si/wp-content/uploads/2021/08/zpm_PocitnicePrijatelji_FB_828x315px_2106.png
END:VEVENT
END:VCALENDAR