BEGIN:VCALENDAR
VERSION:2.0
PRODID:-//ZPM-MB.si - ECPv4.9.10//NONSGML v1.0//EN
CALSCALE:GREGORIAN
METHOD:PUBLISH
X-WR-CALNAME:ZPM-MB.si
X-ORIGINAL-URL:https://zpm-mb.si
X-WR-CALDESC:Events for ZPM-MB.si
BEGIN:VTIMEZONE
TZID:UTC
BEGIN:STANDARD
TZOFFSETFROM:+0000
TZOFFSETTO:+0000
TZNAME:UTC
DTSTART:20230101T000000
END:STANDARD
END:VTIMEZONE
BEGIN:VEVENT
DTSTART;VALUE=DATE:20230522
DTEND;VALUE=DATE:20230523
DTSTAMP:20260421T100737
CREATED:20230112T065723Z
LAST-MODIFIED:20230112T065723Z
UID:55412-1684713600-1684799999@zpm-mb.si
SUMMARY:Nacionalni teden prostovoljstva (22.-28.5.2023)
DESCRIPTION:
URL:https://zpm-mb.si/dogodek/nacionalni-teden-prostovoljstva-22-28-5-2023/
END:VEVENT
END:VCALENDAR