BEGIN:VCALENDAR
VERSION:2.0
PRODID:-//ZPM-MB.si - ECPv4.9.10//NONSGML v1.0//EN
CALSCALE:GREGORIAN
METHOD:PUBLISH
X-WR-CALNAME:ZPM-MB.si
X-ORIGINAL-URL:https://zpm-mb.si
X-WR-CALDESC:Events for ZPM-MB.si
BEGIN:VTIMEZONE
TZID:UTC
BEGIN:STANDARD
TZOFFSETFROM:+0000
TZOFFSETTO:+0000
TZNAME:UTC
DTSTART:20220101T000000
END:STANDARD
END:VTIMEZONE
BEGIN:VEVENT
DTSTART;TZID=UTC:20220411T080000
DTEND;TZID=UTC:20220411T140000
DTSTAMP:20260420T034757
CREATED:20220405T064817Z
LAST-MODIFIED:20220405T064817Z
UID:49099-1649664000-1649685600@zpm-mb.si
SUMMARY:Nacionalni Otroški parlament
DESCRIPTION:
URL:https://zpm-mb.si/dogodek/nacionalni-otroski-parlament-3/
LOCATION:Državni zbor RS\, Šubičeva ulica 4\, ljubljana\, Slovenija
ATTACH;FMTTYPE=image/png:https://zpm-mb.si/wp-content/uploads/2018/02/logo_otroski_parlamenti_thumb-150x146.png
END:VEVENT
END:VCALENDAR