BEGIN:VCALENDAR
VERSION:2.0
PRODID:-//ZPM-MB.si - ECPv4.9.10//NONSGML v1.0//EN
CALSCALE:GREGORIAN
METHOD:PUBLISH
X-WR-CALNAME:ZPM-MB.si
X-ORIGINAL-URL:https://zpm-mb.si
X-WR-CALDESC:Events for ZPM-MB.si
BEGIN:VTIMEZONE
TZID:UTC
BEGIN:STANDARD
TZOFFSETFROM:+0000
TZOFFSETTO:+0000
TZNAME:UTC
DTSTART:20200101T000000
END:STANDARD
END:VTIMEZONE
BEGIN:VEVENT
DTSTART;VALUE=DATE:20200304
DTEND;VALUE=DATE:20200305
DTSTAMP:20260419T223646
CREATED:20200305T090847Z
LAST-MODIFIED:20200305T090847Z
UID:35755-1583280000-1583366399@zpm-mb.si
SUMMARY:Mladi za napredek Maribora - zagovori nalog
DESCRIPTION:
URL:https://zpm-mb.si/dogodek/mladi-za-napredek-maribora-zagovori-nalog/
LOCATION:Lesarska šola Maribor\, Lesarska ulica 2\, Maribor\, 2000\, Slovenija
ATTACH;FMTTYPE=image/jpeg:https://zpm-mb.si/wp-content/uploads/2018/02/MNM-plakat-obrezan.jpg
END:VEVENT
END:VCALENDAR