BEGIN:VCALENDAR
VERSION:2.0
PRODID:-//ZPM-MB.si - ECPv4.9.10//NONSGML v1.0//EN
CALSCALE:GREGORIAN
METHOD:PUBLISH
X-WR-CALNAME:ZPM-MB.si
X-ORIGINAL-URL:https://zpm-mb.si
X-WR-CALDESC:Events for ZPM-MB.si
BEGIN:VTIMEZONE
TZID:UTC
BEGIN:STANDARD
TZOFFSETFROM:+0000
TZOFFSETTO:+0000
TZNAME:UTC
DTSTART:20210101T000000
END:STANDARD
END:VTIMEZONE
BEGIN:VEVENT
DTSTART;VALUE=DATE:20210401
DTEND;VALUE=DATE:20210402
DTSTAMP:20260424T095650
CREATED:20210323T065545Z
LAST-MODIFIED:20210323T065604Z
UID:41781-1617235200-1617321599@zpm-mb.si
SUMMARY:Mladi za napredek Maribora – oddaja nalog
DESCRIPTION:Rok za oddajo raziskovalnih nalog in inovacijskih predlogov v programu Mladi za napredek Maribora 2021. \n
URL:https://zpm-mb.si/dogodek/mladi-za-napredek-maribora-oddaja-nalog-3/
LOCATION:Dom ustvarjalnosti mladih Maribor\, Razlagova 16\, Maribor\, 2000\, Slovenija
ATTACH;FMTTYPE=image/jpeg:https://zpm-mb.si/wp-content/uploads/2015/02/MNM-plakat-obrezan.jpg
END:VEVENT
END:VCALENDAR