BEGIN:VCALENDAR
VERSION:2.0
PRODID:-//ZPM-MB.si - ECPv4.9.10//NONSGML v1.0//EN
CALSCALE:GREGORIAN
METHOD:PUBLISH
X-WR-CALNAME:ZPM-MB.si
X-ORIGINAL-URL:https://zpm-mb.si
X-WR-CALDESC:Events for ZPM-MB.si
BEGIN:VTIMEZONE
TZID:UTC
BEGIN:STANDARD
TZOFFSETFROM:+0000
TZOFFSETTO:+0000
TZNAME:UTC
DTSTART:20200101T000000
END:STANDARD
END:VTIMEZONE
BEGIN:VEVENT
DTSTART;VALUE=DATE:20200212
DTEND;VALUE=DATE:20200213
DTSTAMP:20260420T015337
CREATED:20200107T122401Z
LAST-MODIFIED:20200107T122539Z
UID:34789-1581465600-1581551999@zpm-mb.si
SUMMARY:Mladi za napredek Maribora - oddaja nalog
DESCRIPTION:\n\nRok za oddajo raziskovalnih nalog in inovacijskih predlogov v programu Mladi za napredek Maribora 2020. \n\n\n
URL:https://zpm-mb.si/dogodek/mladi-za-napredek-maribora-oddaja-nalog-2/
LOCATION:Dom ustvarjalnosti mladih Maribor\, Razlagova 16\, Maribor\, 2000\, Slovenija
ATTACH;FMTTYPE=image/jpeg:https://zpm-mb.si/wp-content/uploads/2015/02/MNM-plakat-obrezan.jpg
END:VEVENT
END:VCALENDAR