BEGIN:VCALENDAR
VERSION:2.0
PRODID:-//ZPM-MB.si - ECPv4.9.10//NONSGML v1.0//EN
CALSCALE:GREGORIAN
METHOD:PUBLISH
X-WR-CALNAME:ZPM-MB.si
X-ORIGINAL-URL:https://zpm-mb.si
X-WR-CALDESC:Events for ZPM-MB.si
BEGIN:VTIMEZONE
TZID:UTC
BEGIN:STANDARD
TZOFFSETFROM:+0000
TZOFFSETTO:+0000
TZNAME:UTC
DTSTART:20230101T000000
END:STANDARD
END:VTIMEZONE
BEGIN:VEVENT
DTSTART;VALUE=DATE:20230420
DTEND;VALUE=DATE:20230421
DTSTAMP:20260421T083700
CREATED:20230112T065520Z
LAST-MODIFIED:20230207T102200Z
UID:55406-1681948800-1682035199@zpm-mb.si
SUMMARY:Mladi za napredek Maribora - izlet za nagrajence (20.-21.4.2023)
DESCRIPTION:
URL:https://zpm-mb.si/dogodek/mladi-za-napredek-maribora-izlet-za-nagrajence-20-21-4-2023/
ATTACH;FMTTYPE=image/jpeg:https://zpm-mb.si/wp-content/uploads/2022/04/MNM-plakat-obrezan2.jpg
END:VEVENT
END:VCALENDAR