BEGIN:VCALENDAR
VERSION:2.0
PRODID:-//ZPM-MB.si - ECPv4.9.10//NONSGML v1.0//EN
CALSCALE:GREGORIAN
METHOD:PUBLISH
X-WR-CALNAME:ZPM-MB.si
X-ORIGINAL-URL:https://zpm-mb.si
X-WR-CALDESC:Events for ZPM-MB.si
BEGIN:VTIMEZONE
TZID:UTC
BEGIN:STANDARD
TZOFFSETFROM:+0000
TZOFFSETTO:+0000
TZNAME:UTC
DTSTART:20210101T000000
END:STANDARD
END:VTIMEZONE
BEGIN:VEVENT
DTSTART;TZID=UTC:20210325T160000
DTEND;TZID=UTC:20210325T180000
DTSTAMP:20260420T064308
CREATED:20210302T060802Z
LAST-MODIFIED:20210302T113015Z
UID:41558-1616688000-1616695200@zpm-mb.si
SUMMARY:Linija za Očete in Mame
DESCRIPTION:
URL:https://zpm-mb.si/dogodek/linija-za-ocete-in-mame-13/
ATTACH;FMTTYPE=image/jpeg:https://zpm-mb.si/wp-content/uploads/2018/02/VGC_Stajerska-logotip.jpg
END:VEVENT
END:VCALENDAR