BEGIN:VCALENDAR
VERSION:2.0
PRODID:-//ZPM-MB.si - ECPv4.9.10//NONSGML v1.0//EN
CALSCALE:GREGORIAN
METHOD:PUBLISH
X-WR-CALNAME:ZPM-MB.si
X-ORIGINAL-URL:https://zpm-mb.si
X-WR-CALDESC:Events for ZPM-MB.si
BEGIN:VTIMEZONE
TZID:UTC
BEGIN:STANDARD
TZOFFSETFROM:+0000
TZOFFSETTO:+0000
TZNAME:UTC
DTSTART:20200101T000000
END:STANDARD
END:VTIMEZONE
BEGIN:VEVENT
DTSTART;TZID=UTC:20201007T130000
DTEND;TZID=UTC:20201007T150000
DTSTAMP:20260420T050855
CREATED:20200930T085513Z
LAST-MODIFIED:20201002T124139Z
UID:39794-1602075600-1602082800@zpm-mb.si
SUMMARY:Javna tribuna: Najstnik - otrok ali mladostnik?
DESCRIPTION:V okviru  TEDNA OTROKA 2020.\n
URL:https://zpm-mb.si/dogodek/javna-tribuna-najstnik-otrok-ali-mladostnik/
LOCATION:Lutkovno gledališče Maribor\, Vojašniški trg 2a\, Maribor\, Slovenija
ATTACH;FMTTYPE=image/jpeg:https://zpm-mb.si/wp-content/uploads/2020/09/zpm_TedenOtroka-MAIL-2009_v2.jpg
END:VEVENT
END:VCALENDAR