BEGIN:VCALENDAR
VERSION:2.0
PRODID:-//ZPM-MB.si - ECPv4.9.10//NONSGML v1.0//EN
CALSCALE:GREGORIAN
METHOD:PUBLISH
X-WR-CALNAME:ZPM-MB.si
X-ORIGINAL-URL:https://zpm-mb.si
X-WR-CALDESC:Events for ZPM-MB.si
BEGIN:VTIMEZONE
TZID:UTC
BEGIN:STANDARD
TZOFFSETFROM:+0000
TZOFFSETTO:+0000
TZNAME:UTC
DTSTART:20200101T000000
END:STANDARD
END:VTIMEZONE
BEGIN:VEVENT
DTSTART;VALUE=DATE:20200821
DTEND;VALUE=DATE:20200822
DTSTAMP:20260420T015038
CREATED:20200717T054855Z
LAST-MODIFIED:20200717T105351Z
UID:37674-1597968000-1598054399@zpm-mb.si
SUMMARY:Festival Lent - Art kamp
DESCRIPTION:Od 21. do 29. 8. v Mestnem parku ustvarjalno druženje soustvarja tudi ZPM Maribor. Vsak dan\, od 10.00 do 13.00 in od 16.00 do 20.00.\n
URL:https://zpm-mb.si/dogodek/festival-lent-art-kamp/
LOCATION:Mestni park Maribor\, Maribor\, Slovenija
ATTACH;FMTTYPE=image/png:https://zpm-mb.si/wp-content/uploads/2020/07/Festival-Lent-2020-logo-E-podpis.png
END:VEVENT
END:VCALENDAR