BEGIN:VCALENDAR
VERSION:2.0
PRODID:-//ZPM-MB.si - ECPv4.9.10//NONSGML v1.0//EN
CALSCALE:GREGORIAN
METHOD:PUBLISH
X-WR-CALNAME:ZPM-MB.si
X-ORIGINAL-URL:https://zpm-mb.si
X-WR-CALDESC:Events for ZPM-MB.si
BEGIN:VTIMEZONE
TZID:Europe/Helsinki
BEGIN:DAYLIGHT
TZOFFSETFROM:+0200
TZOFFSETTO:+0300
TZNAME:EEST
DTSTART:20180325T010000
END:DAYLIGHT
BEGIN:STANDARD
TZOFFSETFROM:+0300
TZOFFSETTO:+0200
TZNAME:EET
DTSTART:20181028T010000
END:STANDARD
END:VTIMEZONE
BEGIN:VEVENT
DTSTART;TZID=Europe/Helsinki:20181210T190000
DTEND;TZID=Europe/Helsinki:20181210T210000
DTSTAMP:20260419T220806
CREATED:20181204T190738Z
LAST-MODIFIED:20181204T190850Z
UID:27153-1544468400-1544475600@zpm-mb.si
SUMMARY:Dobrodelni stand up za zimovanje otrok
DESCRIPTION:Dobrodelna predstava Profesor Kuzman mlajši za dober namen.\nPREBERI VEČ …\n
URL:https://zpm-mb.si/dogodek/dobrodelni-stand-up-za-zimovanje-otrok/
LOCATION:Narodni dom Maribor\, Kneza Koclja 9\, maribor\, Slovenija
ATTACH;FMTTYPE=image/jpeg:https://zpm-mb.si/wp-content/uploads/2018/12/profesor_kuzma-e1543841428909.jpg
END:VEVENT
END:VCALENDAR