BEGIN:VCALENDAR
VERSION:2.0
PRODID:-//ZPM-MB.si - ECPv4.9.10//NONSGML v1.0//EN
CALSCALE:GREGORIAN
METHOD:PUBLISH
X-WR-CALNAME:ZPM-MB.si
X-ORIGINAL-URL:https://zpm-mb.si
X-WR-CALDESC:Events for ZPM-MB.si
BEGIN:VTIMEZONE
TZID:UTC
BEGIN:STANDARD
TZOFFSETFROM:+0000
TZOFFSETTO:+0000
TZNAME:UTC
DTSTART:20200101T000000
END:STANDARD
END:VTIMEZONE
BEGIN:VEVENT
DTSTART;TZID=UTC:20200120T100000
DTEND;TZID=UTC:20200120T113000
DTSTAMP:20260420T142155
CREATED:20200107T072236Z
LAST-MODIFIED:20200127T092100Z
UID:34775-1579514400-1579519800@zpm-mb.si
SUMMARY:Delavnica za ženske: Povezana s svojim telesom (Duplek)
DESCRIPTION:
URL:https://zpm-mb.si/dogodek/delavnica-za-zenske-povezana-s-svojim-telesom-duplek/
LOCATION:Medgeneracijski center Duplek\, Dvorjane 38\, Duplek\, Slovenija
ATTACH;FMTTYPE=image/jpeg:https://zpm-mb.si/wp-content/uploads/2018/02/VGC_Stajerska-logotip.jpg
END:VEVENT
END:VCALENDAR