BEGIN:VCALENDAR
VERSION:2.0
PRODID:-//ZPM-MB.si - ECPv4.9.10//NONSGML v1.0//EN
CALSCALE:GREGORIAN
METHOD:PUBLISH
X-WR-CALNAME:ZPM-MB.si
X-ORIGINAL-URL:https://zpm-mb.si
X-WR-CALDESC:Events for ZPM-MB.si
BEGIN:VTIMEZONE
TZID:UTC
BEGIN:STANDARD
TZOFFSETFROM:+0000
TZOFFSETTO:+0000
TZNAME:UTC
DTSTART:20210101T000000
END:STANDARD
END:VTIMEZONE
BEGIN:VEVENT
DTSTART;TZID=UTC:20210616T100000
DTEND;TZID=UTC:20210616T120000
DTSTAMP:20260421T102129
CREATED:20210524T103603Z
LAST-MODIFIED:20210524T110735Z
UID:42976-1623837600-1623844800@zpm-mb.si
SUMMARY:Delavnica naravne kozmetike - Vlažilci in aloe vera (Miklavž)
DESCRIPTION:
URL:https://zpm-mb.si/dogodek/delavnica-naravne-kozmetike-vlazilci-in-aloe-vera-miklavz/
LOCATION:KUD Zvonke Antoličič\, Cesta v Rogozo 11\, Miklavž na Dravskem polju\, Slovenija
ATTACH;FMTTYPE=image/jpeg:https://zpm-mb.si/wp-content/uploads/2017/05/VGC_Stajerska-logotip.jpg
END:VEVENT
END:VCALENDAR