BEGIN:VCALENDAR
VERSION:2.0
PRODID:-//ZPM-MB.si - ECPv4.9.10//NONSGML v1.0//EN
CALSCALE:GREGORIAN
METHOD:PUBLISH
X-WR-CALNAME:ZPM-MB.si
X-ORIGINAL-URL:https://zpm-mb.si
X-WR-CALDESC:Events for ZPM-MB.si
BEGIN:VTIMEZONE
TZID:Europe/Helsinki
BEGIN:DAYLIGHT
TZOFFSETFROM:+0200
TZOFFSETTO:+0300
TZNAME:EEST
DTSTART:20190331T010000
END:DAYLIGHT
BEGIN:STANDARD
TZOFFSETFROM:+0300
TZOFFSETTO:+0200
TZNAME:EET
DTSTART:20191027T010000
END:STANDARD
END:VTIMEZONE
BEGIN:VEVENT
DTSTART;TZID=Europe/Helsinki:20190122T110000
DTEND;TZID=Europe/Helsinki:20190122T130000
DTSTAMP:20260421T131858
CREATED:20181220T090239Z
LAST-MODIFIED:20181220T090239Z
UID:27261-1548154800-1548162000@zpm-mb.si
SUMMARY:Delavnica naravne kozmetike - MAZILA (Lenart)
DESCRIPTION:Delavnica naravne kozmetike MAZILA – Lenart (za odrasle).\nUdeležba na delavnici je brezplačna\, prijave zbiramo na tel. št. 02 229 94 50\, 040 433 511 ali na e-naslovu info.dum@zpm-mb.si.\n
URL:https://zpm-mb.si/dogodek/delavnica-naravne-kozmetike-mazila-lenart/
LOCATION:Knjižnica Lenart\, Nikova ulica 9\, Lenart\, Slovenija
ATTACH;FMTTYPE=image/jpeg:https://zpm-mb.si/wp-content/uploads/2018/02/VGC_Stajerska-logotip.jpg
END:VEVENT
END:VCALENDAR