BEGIN:VCALENDAR
VERSION:2.0
PRODID:-//ZPM-MB.si - ECPv4.9.10//NONSGML v1.0//EN
CALSCALE:GREGORIAN
METHOD:PUBLISH
X-WR-CALNAME:ZPM-MB.si
X-ORIGINAL-URL:https://zpm-mb.si
X-WR-CALDESC:Events for ZPM-MB.si
BEGIN:VTIMEZONE
TZID:Europe/Helsinki
BEGIN:DAYLIGHT
TZOFFSETFROM:+0200
TZOFFSETTO:+0300
TZNAME:EEST
DTSTART:20190331T010000
END:DAYLIGHT
BEGIN:STANDARD
TZOFFSETFROM:+0300
TZOFFSETTO:+0200
TZNAME:EET
DTSTART:20191027T010000
END:STANDARD
END:VTIMEZONE
BEGIN:VEVENT
DTSTART;TZID=Europe/Helsinki:20190212T100000
DTEND;TZID=Europe/Helsinki:20190212T120000
DTSTAMP:20260421T120228
CREATED:20190123T091624Z
LAST-MODIFIED:20190123T091624Z
UID:27410-1549965600-1549972800@zpm-mb.si
SUMMARY:Delavnica NARAVNA ČISTILA (Rače)
DESCRIPTION:Delavnica NARAVNA ČISTILA – Rače (za odrasle).\nUdeležba na delavnici je brezplačna\, prijave zbiramo na tel. št. 02 229 94 50\, 040 433 511 ali na e-naslovu info.dum@zpm-mb.si.\nPREBERI VEČ …\n
URL:https://zpm-mb.si/dogodek/delavnica-naravna-cistila-race/
LOCATION:Medgeneracijski center Rače-Fram\, Nova ulica 3\, Rače\, Slovenija
ATTACH;FMTTYPE=image/jpeg:https://zpm-mb.si/wp-content/uploads/2018/02/VGC_Stajerska-logotip.jpg
END:VEVENT
END:VCALENDAR