BEGIN:VCALENDAR
VERSION:2.0
PRODID:-//ZPM-MB.si - ECPv4.9.10//NONSGML v1.0//EN
CALSCALE:GREGORIAN
METHOD:PUBLISH
X-WR-CALNAME:ZPM-MB.si
X-ORIGINAL-URL:https://zpm-mb.si
X-WR-CALDESC:Events for ZPM-MB.si
BEGIN:VTIMEZONE
TZID:Europe/Helsinki
BEGIN:DAYLIGHT
TZOFFSETFROM:+0200
TZOFFSETTO:+0300
TZNAME:EEST
DTSTART:20180325T010000
END:DAYLIGHT
BEGIN:STANDARD
TZOFFSETFROM:+0300
TZOFFSETTO:+0200
TZNAME:EET
DTSTART:20181028T010000
END:STANDARD
END:VTIMEZONE
BEGIN:VEVENT
DTSTART;TZID=Europe/Helsinki:20180417T140000
DTEND;TZID=Europe/Helsinki:20180417T153000
DTSTAMP:20260420T090613
CREATED:20180327T073814Z
LAST-MODIFIED:20180327T075417Z
UID:22236-1523973600-1523979000@zpm-mb.si
SUMMARY:Delavnica kvačkanja za otroke
DESCRIPTION:Delavnica kvačkanja za uporabnike Dnevnega centra Ruše\n
URL:https://zpm-mb.si/dogodek/delavnica-kvackanja-za-otroke/
LOCATION:Dnevni center za otroke CSD Ruše\, Šolska ulica 16A\, Ruše\, Slovenija
ATTACH;FMTTYPE=image/jpeg:https://zpm-mb.si/wp-content/uploads/2018/02/VGC_Stajerska-logotip.jpg
END:VEVENT
END:VCALENDAR