BEGIN:VCALENDAR
VERSION:2.0
PRODID:-//ZPM-MB.si - ECPv4.9.10//NONSGML v1.0//EN
CALSCALE:GREGORIAN
METHOD:PUBLISH
X-WR-CALNAME:ZPM-MB.si
X-ORIGINAL-URL:https://zpm-mb.si
X-WR-CALDESC:Events for ZPM-MB.si
BEGIN:VTIMEZONE
TZID:Europe/Helsinki
BEGIN:DAYLIGHT
TZOFFSETFROM:+0200
TZOFFSETTO:+0300
TZNAME:EEST
DTSTART:20180325T010000
END:DAYLIGHT
BEGIN:STANDARD
TZOFFSETFROM:+0300
TZOFFSETTO:+0200
TZNAME:EET
DTSTART:20181028T010000
END:STANDARD
END:VTIMEZONE
BEGIN:VEVENT
DTSTART;TZID=Europe/Helsinki:20180411T120000
DTEND;TZID=Europe/Helsinki:20180411T160000
DTSTAMP:20260424T091409
CREATED:20180406T095155Z
LAST-MODIFIED:20180406T095254Z
UID:22357-1523448000-1523462400@zpm-mb.si
SUMMARY:Dan raziskovalcev - OŠ
DESCRIPTION:Vljudno vas vabimo na predstavitev raziskovalcev\, raziskovalnih nalog in inovacijskih predlogov 35. srečanja Mladi za napredek Maribora 2018. Od 12.00 naprej se bodo v Centru eksperimentov Maribor (Glavni trg 20) predstavili posamezni mladi raziskovalci letošnjega srečanja iz osnovnih šol.  \n
URL:https://zpm-mb.si/dogodek/dan-raziskovalcev-os/
LOCATION:Center eksperimentov Maribor\, Glavni trg 20\, maribor\, 2000\, Slovenija
END:VEVENT
END:VCALENDAR