BEGIN:VCALENDAR
VERSION:2.0
PRODID:-//ZPM-MB.si - ECPv4.9.10//NONSGML v1.0//EN
CALSCALE:GREGORIAN
METHOD:PUBLISH
X-WR-CALNAME:ZPM-MB.si
X-ORIGINAL-URL:https://zpm-mb.si
X-WR-CALDESC:Events for ZPM-MB.si
BEGIN:VTIMEZONE
TZID:UTC
BEGIN:STANDARD
TZOFFSETFROM:+0000
TZOFFSETTO:+0000
TZNAME:UTC
DTSTART:20230101T000000
END:STANDARD
END:VTIMEZONE
BEGIN:VEVENT
DTSTART;TZID=UTC:20230322T120000
DTEND;TZID=UTC:20230322T170000
DTSTAMP:20260420T052445
CREATED:20230317T065659Z
LAST-MODIFIED:20230317T065948Z
UID:56397-1679486400-1679504400@zpm-mb.si
SUMMARY:Cunjami na Festivalu ponovne uporabe
DESCRIPTION:Festival ponovne uporabe in Cunjami – izmenjevalnica oblačil \n \n
URL:https://zpm-mb.si/dogodek/cunjami-na-festivalu-ponovne-uporabe/
LOCATION:Ploščad pred IZUM-om\, Prešernova 17
ATTACH;FMTTYPE=image/jpeg:https://zpm-mb.si/wp-content/uploads/2023/03/335927121_743985323948879_8024571800368334816_n-2.jpg
END:VEVENT
END:VCALENDAR