BEGIN:VCALENDAR
VERSION:2.0
PRODID:-//ZPM-MB.si - ECPv4.9.10//NONSGML v1.0//EN
CALSCALE:GREGORIAN
METHOD:PUBLISH
X-WR-CALNAME:ZPM-MB.si
X-ORIGINAL-URL:https://zpm-mb.si
X-WR-CALDESC:Events for ZPM-MB.si
BEGIN:VTIMEZONE
TZID:Europe/Helsinki
BEGIN:DAYLIGHT
TZOFFSETFROM:+0200
TZOFFSETTO:+0300
TZNAME:EEST
DTSTART:20180325T010000
END:DAYLIGHT
BEGIN:STANDARD
TZOFFSETFROM:+0300
TZOFFSETTO:+0200
TZNAME:EET
DTSTART:20181028T010000
END:STANDARD
END:VTIMEZONE
BEGIN:VEVENT
DTSTART;TZID=Europe/Helsinki:20180522T163000
DTEND;TZID=Europe/Helsinki:20180522T183000
DTSTAMP:20260420T141032
CREATED:20180419T060558Z
LAST-MODIFIED:20180507T075904Z
UID:22507-1527006600-1527013800@zpm-mb.si
SUMMARY:Čarobni otroci - delavnica za starše in otroke (Šentilj)
DESCRIPTION:Delavnica za starše in otroke Čarobni otroci v Medgeneracijskem centru Šentilj. \nUdeležba na delavnici je brezplačna\, prijave zbiramo na tel. št. 02 229 94 50\, 040 433 511 ali na e-naslovu info.dum@zpm-mb.si.\n… PREBERI VEČ\n
URL:https://zpm-mb.si/dogodek/carobni-otroci-delavnica-za-starse-in-otroke-sentilj/
LOCATION:Medgeneracijski center Šentilj\, Slovenska ulica 1\, Šentilj\, Slovenija
ATTACH;FMTTYPE=image/jpeg:https://zpm-mb.si/wp-content/uploads/2018/02/VGC_Stajerska-logotip.jpg
END:VEVENT
END:VCALENDAR