BEGIN:VCALENDAR
VERSION:2.0
PRODID:-//ZPM-MB.si - ECPv4.9.10//NONSGML v1.0//EN
CALSCALE:GREGORIAN
METHOD:PUBLISH
X-WR-CALNAME:ZPM-MB.si
X-ORIGINAL-URL:https://zpm-mb.si
X-WR-CALDESC:Events for ZPM-MB.si
BEGIN:VTIMEZONE
TZID:Europe/Helsinki
BEGIN:DAYLIGHT
TZOFFSETFROM:+0200
TZOFFSETTO:+0300
TZNAME:EEST
DTSTART:20180325T010000
END:DAYLIGHT
BEGIN:STANDARD
TZOFFSETFROM:+0300
TZOFFSETTO:+0200
TZNAME:EET
DTSTART:20181028T010000
END:STANDARD
END:VTIMEZONE
BEGIN:VEVENT
DTSTART;TZID=Europe/Helsinki:20180917T100000
DTEND;TZID=Europe/Helsinki:20180917T120000
DTSTAMP:20260420T120144
CREATED:20180904T121848Z
LAST-MODIFIED:20180905T111121Z
UID:25719-1537178400-1537185600@zpm-mb.si
SUMMARY:Bralni maraton
DESCRIPTION:Prireditev ob začetku nove sezone branja za Prežihovo Bralno značko.\n
URL:https://zpm-mb.si/dogodek/bralni-maraton/
LOCATION:Trg svobode\, Maribor\, Slovenija
END:VEVENT
END:VCALENDAR